BEGIN:VCALENDAR
VERSION:2.0
METHOD:PUBLISH
BEGIN:VEVENT
UID:WILD_APRICOT_EVENT_3602195_SESSION_1
DTSTART:20191026T130000Z
DTEND:20191027T130000Z
SUMMARY:MG Car Club of Canberra Motorkhana
LOCATION:Sutton Transport Industries Skill Centre
DESCRIPTION:https://bmwclubcanberra.org.au/event-3602195\n\n\n  The MG Car Club are holding a motorkhana this Sunday (sorry for the late notice) at Sutton Transport Industries Skill Centre.  You are required to have a current CAMS licence and proof of a member of a CAMS affiliate Club which we are.\n  Cost is $50.00 and will comprise of 6 patterns set up with 2 runs on each pattern.\n  There were limited numbers to that prescribed in the CAMS Permit.\n  Please email me directly (markw12958@gmail.com) if you are interested and I forward on the details.\n  Or alternatively contact Kent Brown  0412 558 029 or email kjpbrown@bigpond.com from the MG Club of Canberra.\n  My apologies sorry for the late notice.\n
DTSTAMP:20260424T161020Z
END:VEVENT
END:VCALENDAR
