BEGIN:VCALENDAR
VERSION:2.0
METHOD:PUBLISH
BEGIN:VEVENT
UID:WILD_APRICOT_EVENT_3599914_SESSION_1
DTSTART:20191114T090000Z
DTEND:20191114T113000Z
SUMMARY:Ford vs Ferrari Movie Night
LOCATION:Manuka Cinema
DESCRIPTION:https://bmwclubcanberra.org.au/event-3599914\n\n                        This looks like a great film and we have been invited to tag along with the Fiat and Alfa Car Clubs.\n          \n\n          We arrive from 8pm\, and kick the film off from 8.30pm - give those who'd like to a chance to get a meal or drink or both in Manuka beforehand.  Sounds like a plan.  It's not a fund-raiser - just a chance for car lovers to come out and see a great film about cars and car racers.  (For the very few of you who haven't seen the trailer\, I've included the link below.)\n          \n\n          \n\n                  https://www.youtube.com/watch?v=zyYgDtY2AMY\n\n  \n\n
DTSTAMP:20260424T173749Z
END:VEVENT
END:VCALENDAR
