BEGIN:VCALENDAR
VERSION:2.0
METHOD:PUBLISH
BEGIN:VEVENT
UID:WILD_APRICOT_EVENT_3579806_SESSION_1
DTSTART:20191108T230000Z
DTEND:20191109T040000Z
SUMMARY:M Town Roadshow Rolfe BMW
LOCATION:Rolfe BMW 2 Botany Street Phillip
DESCRIPTION:https://bmwclubcanberra.org.au/event-3579806\n\n\n\n  The M Town Roadshow is on at Rolfe BMW on Saturday the 9th of November 2019.\n  Come and admire\, dream and test drive the amazing M cars on display.  Book a drive in your dream M car via the Rolfe Classic link below.\n  https://www.rolfeclassicbmw.com.au/openday\n  Some of our members M Cars will also will be there to enjoy.\n  Do not miss out on this special day and support our major club sponsor.\n  Subject to interest we may do a short run after the event.\n  Look forward to seeing you there!\n  \n\n
DTSTAMP:20260424T161032Z
END:VEVENT
END:VCALENDAR
