BEGIN:VCALENDAR
VERSION:2.0
METHOD:PUBLISH
BEGIN:VEVENT
UID:WILD_APRICOT_EVENT_3568438_SESSION_1
DTSTART:20191108T130000Z
DTEND:20191109T130000Z
SUMMARY:Nissan Sports Car Club Wakefield 9/11/2019 Track Day
LOCATION:Wakefield Race Track
DESCRIPTION:https://bmwclubcanberra.org.au/event-3568438\n\nThe BMWCCC has been contacted by the Nissan Sports Car Club (NSCC) who are holding a track day on Saturday the 9th of November 2019 at Wakefield.\n  The day is run under cams and includes fire\, rescue and timing.\n  It will run in groups of no more than 10 cars and max 65 entries.\n  The groups will be decided based on previous PB times on Natsoft.\n  NSCC are a cams affiliated club with a wide variety of cars running times from around the 60sec mark through to the 90sec mark and aim to ensure entrants gain the most amount of track time possible in the safest possible way.\n  Costs are $220 for the day not including Cams or Wakefield licence. Standard safety equipment is required for a L2S day (details on the website).\n  Entrants can enter and pay online by following the link below. Enquires to be directed to Matt Robinson on 0408 022 992. \n  http://www.nissansportscarclub.org/\n  We will continue to include these opportunities as they are brought to our attention on our web site and advise accordingly for our track focused members.\n  BMW Car Club Canberra\n  \n\n
DTSTAMP:20260424T161041Z
END:VEVENT
END:VCALENDAR
