BEGIN:VCALENDAR
VERSION:2.0
METHOD:PUBLISH
BEGIN:VEVENT
UID:WILD_APRICOT_EVENT_3556904_SESSION_1
DTSTART:20191128T220000Z
DTEND:20191202T060000Z
SUMMARY:Multi Club Weekend | Canberra\, Melbourne and NSW Clubs
LOCATION:Merimbula - South East NSW & Eastern Victoria
DESCRIPTION:https://bmwclubcanberra.org.au/event-3556904\n\n\n\n  \nA 3-club drive organised by BMW Drivers Club Melbourne\, BMW Drivers Club NSW and BMW Car Club Canberra.\n  All financial members of these 3 clubs - along with family members and significant others are welcome.  \n  The event will be based in beautiful Merimbula on the NSW South Coast where all the clubs will meet on Friday night. We have arranged to meet at the Merimbula RSL  at  6pm for a meet and greet and we will enjoy a 2 course meal\, which we can pre-order\, the cost is $30 per head.   Please download and return your order form with your registration to events@bmwdcm.com.au.\n  On Saturday we’ll head up into the mountains on scenic\, sweeping roads.  Then there’s a choice of a brilliant\, twisty driving road or a cruise on more sweeping roads\, both ending at Marlo on the Snowy River for lunch.  The afternoon includes sweeping roads through the mountains before a final run up the coast back to Merimbula.\n  Sunday will take us on enjoyable roads through the Bega Valley\, before heading up the mountains to Cooma for lunch.  From there\, the clubs will head to their home cities.  For the Melbourne club\, this means twisty roads across the mountains to an overnight stop in Corryong\, followed by an excellent drive along the Murray River to Albury and back to Melbourne (everyone is welcome to join part or all of this\, of course).\n  \nItinerary Outline\n  \nACCOMMODATION FOR FRIDAY AND SATURDAY: \n  We will be staying at the Sapphire Valley Caravan Park on both Friday and Saturday night.  Motel Style cabins start from $153 for 2 night (no breakfast included).\n  You can book by calling (02) 6495 1746  to get the discounted rates\, ensure you use BMW Club as your reference at the time of booking.  \n  \nACCOMMODATION FOR SUNDAY: \n  For those travelling back to Melbourne on the extended drive\, we are staying at the Mountain View Motel  Corryong.  Motel rooms start at $90 per night\, including a continental breakfast.\n  Please book by calling (02) 6076 1766 to get the discounted rates\, ensure you use BMW Club as your reference at the time of booking.\n  \nPLEASE MAKE YOUR ROOM BOOKINGS EARLY\, AS THIS IS A BUSY TIME OF THE YEAR AND ROOMS WILL SELL OUT QUICKLY\n  \nDRIVE INSTRUCTIONS TO FOLLOW. \n                                          \n  \n\n
DTSTAMP:20260424T174048Z
END:VEVENT
END:VCALENDAR
