BEGIN:VCALENDAR
VERSION:2.0
METHOD:PUBLISH
BEGIN:VEVENT
UID:WILD_APRICOT_EVENT_3502201_SESSION_1
DTSTART:20191206T213000Z
DTEND:20191207T060000Z
SUMMARY:Cherry Festival Young
LOCATION:Young
DESCRIPTION:https://bmwclubcanberra.org.au/event-3502201\n\n\n  Join us as we attend the Cherry Festival in Young. The trip will include enjoyable roads\, good food and the consumption of cherries.\n  Please reserve this day in your diaries as this will be the last drive day for 2019.\n  Meeting location is the wayside stop at the ACT/NSW Boarder on the Barton Highway at 8.30AM  for a 9.00AM  departure.\n  Morning tea at Boorowa then onto Young for lunch and exploring the Cherry Festival. Depart Young via Wallendbeen\, afternoon tea at Bowning and return to Canberra.\n  \n\n
DTSTAMP:20260424T160950Z
END:VEVENT
END:VCALENDAR
