BEGIN:VCALENDAR
VERSION:2.0
METHOD:PUBLISH
BEGIN:VEVENT
UID:WILD_APRICOT_EVENT_3502059_SESSION_1
DTSTART:20191119T083000Z
DTEND:20191119T103000Z
SUMMARY:BMW Car Club Canberra Annual General Meeting (AGM)
LOCATION:Eastlake Football Club Upstairs Function Room
DESCRIPTION:https://bmwclubcanberra.org.au/event-3502059\n\n\n  The BMW Car Club Canberra will be holding the Annual General Meeting (AGM) on Tuesday 19th of November 2019.  All Committee positions will be vacated and nominations forms will be made available closer to the event.\n  Please consider becoming an active committee member of the Club\, or come along and provide your thoughts of what you would like to get out of the club\, do or contribute in the direction of the club.\n  Finger food and non-alcoholic drinks will be provided from 6.30 PM and the AGM will commence at 7.30 PM sharp. \n  We look forward to your attendance.\n  \n\n
DTSTAMP:20260424T174033Z
END:VEVENT
END:VCALENDAR
