BEGIN:VCALENDAR
VERSION:2.0
METHOD:PUBLISH
BEGIN:VEVENT
UID:WILD_APRICOT_EVENT_3502054_SESSION_1
DTSTART:20191101T220000Z
DTEND:20191102T050000Z
SUMMARY:Cooma 20th Anniversary Motorfest
LOCATION:Cooma Showgrounds
DESCRIPTION:https://bmwclubcanberra.org.au/event-3502054\n\n\n  The Cooma 20th Anniversary Motorfest is being held at the Cooma Showgrounds on Saturday the 2nd of Nov 2019. \n  Displays of Street Machines\, Hot Rods\, Vintage\, Classic Cars\, Muscle Cars\, Military Vehicles\, Motor Bikes\, Tractors\, Rocker Cover Racing\, Trucks & Stationary Engines.\n  Trade Displays\, Live Music\, Swap Meet & Kids Entertainment.\n  Entry forms and more information can be down loaded from: www.coomacarclub.com.au\n  For those that wish to attend\, meeting location and departure time will be published closer to the event.\n  \n\n  \n\n  \n\n
DTSTAMP:20260424T161014Z
END:VEVENT
END:VCALENDAR
