BEGIN:VCALENDAR
VERSION:2.0
METHOD:PUBLISH
BEGIN:VEVENT
UID:WILD_APRICOT_EVENT_3440587_SESSION_1
DTSTART:20190922T000000Z
DTEND:20190922T050000Z
SUMMARY:German Auto Day
LOCATION:Canberra Greyhound Racing Club\, 235 Narrabundah Lane\, Symonston ACT
DESCRIPTION:https://bmwclubcanberra.org.au/event-3440587\n\n\n\n  Come join us for the German Auto Day 2019 and see some great machinery from all German makes - From Auto Union to Volkswagen and everything between!\n  There will be plenty for the whole family - Food\, coffee and activities to keep the kids entertained.\n  General Admission: Gold coin donation\, all proceeds going to SoldierOn.\n  \n\n
DTSTAMP:20260424T162628Z
END:VEVENT
END:VCALENDAR
